BEGIN:VCALENDAR
VERSION:2.0
PRODID:-//Sarah Doudna Dance - ECPv6.15.20//NONSGML v1.0//EN
CALSCALE:GREGORIAN
METHOD:PUBLISH
X-WR-CALNAME:Sarah Doudna Dance
X-ORIGINAL-URL:https://sarahdoudna.com
X-WR-CALDESC:Events for Sarah Doudna Dance
REFRESH-INTERVAL;VALUE=DURATION:PT1H
X-Robots-Tag:noindex
X-PUBLISHED-TTL:PT1H
BEGIN:VTIMEZONE
TZID:America/New_York
BEGIN:DAYLIGHT
TZOFFSETFROM:-0500
TZOFFSETTO:-0400
TZNAME:EDT
DTSTART:20250309T070000
END:DAYLIGHT
BEGIN:STANDARD
TZOFFSETFROM:-0400
TZOFFSETTO:-0500
TZNAME:EST
DTSTART:20251102T060000
END:STANDARD
BEGIN:DAYLIGHT
TZOFFSETFROM:-0500
TZOFFSETTO:-0400
TZNAME:EDT
DTSTART:20260308T070000
END:DAYLIGHT
BEGIN:STANDARD
TZOFFSETFROM:-0400
TZOFFSETTO:-0500
TZNAME:EST
DTSTART:20261101T060000
END:STANDARD
BEGIN:DAYLIGHT
TZOFFSETFROM:-0500
TZOFFSETTO:-0400
TZNAME:EDT
DTSTART:20270314T070000
END:DAYLIGHT
BEGIN:STANDARD
TZOFFSETFROM:-0400
TZOFFSETTO:-0500
TZNAME:EST
DTSTART:20271107T060000
END:STANDARD
END:VTIMEZONE
BEGIN:VTIMEZONE
TZID:UTC
BEGIN:STANDARD
TZOFFSETFROM:+0000
TZOFFSETTO:+0000
TZNAME:UTC
DTSTART:20250101T000000
END:STANDARD
END:VTIMEZONE
BEGIN:VEVENT
DTSTART;TZID=America/New_York:20260426T133000
DTEND;TZID=America/New_York:20260426T143000
DTSTAMP:20260423T130232
CREATED:20240124T010006Z
LAST-MODIFIED:20260402T123313Z
UID:513-1777210200-1777213800@sarahdoudna.com
SUMMARY:Sunday Beginning Class
DESCRIPTION:  \n\n\n\nBeginning Level class: Sundays 1:30pm-2:30pm This one hour\, expedited format class for brand new beginners or those getting back into ballet. We focus on technique and basics\, as we go through a full class starting with the barre\, and moving to the center floor. This class that can be helpful for dancers who are returning from injury.
URL:https://sarahdoudna.com/event/beginners-class-in-the-front-studio-2-3-2-2-2-3-2-3-2-3/
LOCATION:Studio 5th Floor (Buzzer #5)\, 380 Broadway\, New York\, NY\, 10013\, United States
CATEGORIES:Beginer,Beginner Ballet
END:VEVENT
BEGIN:VEVENT
DTSTART;TZID=America/New_York:20260426T143000
DTEND;TZID=America/New_York:20260426T160000
DTSTAMP:20260423T130232
CREATED:20240124T010006Z
LAST-MODIFIED:20260402T123440Z
UID:306-1777213800-1777219200@sarahdoudna.com
SUMMARY:Sunday Open Level Class
DESCRIPTION:  \n\n\n\nOpen Level class: Sundays 2:30pm-4:00pm \nThis class is that nebulous level between Beginning and Intermediate often called “Advanced Beginning\,” that is neither advanced nor beginning but somewhere in between. You to dance and get better with no pressure in a supportive environment\, and have fun! My aim is for you to leave sweaty\, exuberant\, and excited to return. 
URL:https://sarahdoudna.com/event/beginners-class-in-the-front-studio-2-3-2-2-2/
LOCATION:Studio 5th Floor (Buzzer #5)\, 380 Broadway\, New York\, NY\, 10013\, United States
CATEGORIES:Beginner Ballet,Intermediate Ballet,Open Level,Open Level Ballet
END:VEVENT
BEGIN:VEVENT
DTSTART;TZID=UTC:20260426T161500
DTEND;TZID=UTC:20260426T170000
DTSTAMP:20260423T130232
CREATED:20240121T070830Z
LAST-MODIFIED:20260402T123606Z
UID:105-1777220100-1777222800@sarahdoudna.com
SUMMARY:Pointe class
DESCRIPTION:Pointe class: 4:15pm-5:00pm  \nCome try pointe class! Not strong enough yet? That’s okay. Some dancers take the class in ballet slippers until they’re ready. We start with ankle and foot strengthening exercises. Then we warm up at the barre first on two feet\, and then one foot at a time\, and then move into traveling steps\, working on technique and engaging the correct muscles. Everyone is encouraged to move at their own pace. We end stretching our calves and ankles.
URL:https://sarahdoudna.com/event/pointe-class-front-studio-2-3/
LOCATION:Studio 5th Floor (Buzzer #5)\, 380 Broadway\, New York\, NY\, 10013\, United States
CATEGORIES:Pointe
END:VEVENT
BEGIN:VEVENT
DTSTART;TZID=UTC:20260429T190000
DTEND;TZID=UTC:20260429T203000
DTSTAMP:20260423T130232
CREATED:20240122T070044Z
LAST-MODIFIED:20260402T123818Z
UID:526-1777489200-1777494600@sarahdoudna.com
SUMMARY:Wednesday Open Level Class
DESCRIPTION:Open Level Class: Wednesdays 7:00-8:30pm   This class is that nebulous Open Level\, in between Beginner and Intermediate\, often called “Advanced Beginner”\, though it is not advanced or beginner. Combinations are shorter\, we often workshop turns or specific jumps\, and we have a lot of fun!
URL:https://sarahdoudna.com/event/open-level-class-back-studio-2-2-2-2-3-2-2/
LOCATION:Studio 5th Floor (Buzzer #5)\, 380 Broadway\, New York\, NY\, 10013\, United States
CATEGORIES:Beginner Ballet,Intermediate Ballet,Open Level,Open Level Ballet
END:VEVENT
BEGIN:VEVENT
DTSTART;TZID=America/New_York:20260503T133000
DTEND;TZID=America/New_York:20260503T170000
DTSTAMP:20260423T130232
CREATED:20240124T010006Z
LAST-MODIFIED:20260402T124021Z
UID:596-1777815000-1777827600@sarahdoudna.com
SUMMARY:No Classes Sunday\, May 3rd\, 2026
DESCRIPTION:
URL:https://sarahdoudna.com/event/beginners-class-in-the-front-studio-2-3-2-2-2-3-2-3-2-2-3-2/
LOCATION:Studio 5th Floor (Buzzer #5)\, 380 Broadway\, New York\, NY\, 10013\, United States
CATEGORIES:Beginer,Beginner Ballet
END:VEVENT
BEGIN:VEVENT
DTSTART;TZID=UTC:20260506T190000
DTEND;TZID=UTC:20260506T203000
DTSTAMP:20260423T130232
CREATED:20240122T070044Z
LAST-MODIFIED:20260402T124227Z
UID:486-1778094000-1778099400@sarahdoudna.com
SUMMARY:We're Back! Wednesday Open Level Class
DESCRIPTION:Open Level Class: Wednesdays 7:00-8:30pm   This class is that nebulous Open Level\, in between Beginner and Intermediate\, often called “Advanced Beginner”\, though it is not advanced or beginner. Combinations are shorter\, we often workshop turns or specific jumps\, and we have a lot of fun!
URL:https://sarahdoudna.com/event/open-level-class-back-studio-2-2-2-2-2-3-2/
LOCATION:Studio 5th Floor (Buzzer #5)\, 380 Broadway\, New York\, NY\, 10013\, United States
CATEGORIES:Open Level Ballet
END:VEVENT
BEGIN:VEVENT
DTSTART;TZID=America/New_York:20260510T133000
DTEND;TZID=America/New_York:20260510T143000
DTSTAMP:20260423T130232
CREATED:20240124T010006Z
LAST-MODIFIED:20260422T183428Z
UID:448-1778419800-1778423400@sarahdoudna.com
SUMMARY:Sunday Beginning Class
DESCRIPTION:  \n\n\n\nBeginning Level class: Sundays 1:30pm-2:30pm  This one hour\, expedited format class for brand new beginners or those getting back into ballet. We focus on technique and basics\, as we go through a full class starting with the barre\, and moving to the center floor. This class that can be helpful for dancers who are returning from injury. 
URL:https://sarahdoudna.com/event/beginners-class-in-the-front-studio-2-3-2-2-2-3-2-3/
LOCATION:Studio 5th Floor (Buzzer #5)\, 380 Broadway\, New York\, NY\, 10013\, United States
CATEGORIES:Beginer,Beginner Ballet
END:VEVENT
BEGIN:VEVENT
DTSTART;TZID=America/New_York:20260510T143000
DTEND;TZID=America/New_York:20260510T160000
DTSTAMP:20260423T130232
CREATED:20240124T010006Z
LAST-MODIFIED:20260422T183530Z
UID:489-1778423400-1778428800@sarahdoudna.com
SUMMARY:Sunday Open Level Class
DESCRIPTION:  \n\n\n\nOpen Level class: Sundays 2:30pm-4:00pm  This class is that nebulous level between Beginning and Intermediate often called “Advanced Beginning\,” that is neither advanced nor beginning but somewhere in between. You to dance and get better with no pressure in a supportive environment\, and have fun! My aim is for you to leave sweaty\, exuberant\, and excited to return. 
URL:https://sarahdoudna.com/event/beginners-class-in-the-front-studio-2-3-2-2-2-3-2-2-3-2-3/
LOCATION:Studio 5th Floor (Buzzer #5)\, 380 Broadway\, New York\, NY\, 10013\, United States
CATEGORIES:Beginner Ballet,Intermediate Ballet,Open Level,Open Level Ballet
END:VEVENT
BEGIN:VEVENT
DTSTART;TZID=UTC:20260510T161500
DTEND;TZID=UTC:20260510T170000
DTSTAMP:20260423T130232
CREATED:20240121T070830Z
LAST-MODIFIED:20260422T184119Z
UID:553-1778429700-1778432400@sarahdoudna.com
SUMMARY:Pointe class (Front Studio)
DESCRIPTION:Pointe class: 4:15pm-5:00pm \nCome try pointe class! Not strong enough yet? That’s okay. Some dancers take the class in ballet slippers until they’re ready. We start with ankle and foot strengthening exercises. Then we warm up at the barre first on two feet\, and then one foot at a time\, and then move into traveling steps\, working on technique and engaging the correct muscles. Everyone is encouraged to move at their own pace. We end stretching our calves and ankles.
URL:https://sarahdoudna.com/event/pointe-class-front-studio-2-3-2-3-3/
LOCATION:Studio 5th Floor (Buzzer #5)\, 380 Broadway\, New York\, NY\, 10013\, United States
CATEGORIES:Pointe
END:VEVENT
BEGIN:VEVENT
DTSTART;TZID=UTC:20260513T190000
DTEND;TZID=UTC:20260513T203000
DTSTAMP:20260423T130232
CREATED:20240122T070044Z
LAST-MODIFIED:20260422T184214Z
UID:524-1778698800-1778704200@sarahdoudna.com
SUMMARY:Wednesday Open Level Class
DESCRIPTION:Open Level Class: Wednesdays 7:00-8:30pm   This class is that nebulous Open Level\, in between Beginner and Intermediate\, often called “Advanced Beginner”\, though it is not advanced or beginner. Combinations are shorter\, we often workshop turns or specific jumps\, and we have a lot of fun!
URL:https://sarahdoudna.com/event/open-level-class-back-studio-2-2-2-2-3-2/
LOCATION:Studio 5th Floor (Buzzer #5)\, 380 Broadway\, New York\, NY\, 10013\, United States
CATEGORIES:Beginner Ballet,Intermediate Ballet,Open Level,Open Level Ballet
END:VEVENT
BEGIN:VEVENT
DTSTART;TZID=America/New_York:20260517T133000
DTEND;TZID=America/New_York:20260517T143000
DTSTAMP:20260423T130232
CREATED:20240124T010006Z
LAST-MODIFIED:20260422T184302Z
UID:463-1779024600-1779028200@sarahdoudna.com
SUMMARY:Sunday Beginning Class
DESCRIPTION:  \n\n\n\nBeginning Level class: Sundays 1:30pm-2:30pm  This is a new one hour\, expedited format class for brand new beginners or those getting back into ballet. We focus on technique and basics\, as we go through a full class starting with the barre\, and moving to the center floor. This class that can be modified for dancers who are returning from injury. 
URL:https://sarahdoudna.com/event/beginners-class-in-the-front-studio-2-3-2-2-2-3-2-3-2/
LOCATION:Studio 5th Floor (Buzzer #5)\, 380 Broadway\, New York\, NY\, 10013\, United States
CATEGORIES:Beginer,Beginner Ballet
END:VEVENT
BEGIN:VEVENT
DTSTART;TZID=America/New_York:20260517T143000
DTEND;TZID=America/New_York:20260517T160000
DTSTAMP:20260423T130232
CREATED:20240124T010006Z
LAST-MODIFIED:20260422T184420Z
UID:443-1779028200-1779033600@sarahdoudna.com
SUMMARY:Sunday Open Level Class
DESCRIPTION:  \n\n\n\nOpen Level class: Sundays 2:30pm-4:00pm \nThis class is that nebulous level between Beginning and Intermediate often called “Advanced Beginning\,” that is neither advanced nor beginning but somewhere in between. You to dance and get better with no pressure in a supportive environment\, and have fun! My aim is for you to leave sweaty\, exuberant\, and excited to return. 
URL:https://sarahdoudna.com/event/beginners-class-in-the-front-studio-2-3-2-2-2-3-2-2-3-2-2/
LOCATION:Studio 5th Floor (Buzzer #5)\, 380 Broadway\, New York\, NY\, 10013\, United States
CATEGORIES:Beginner Ballet,Intermediate Ballet,Open Level,Open Level Ballet
END:VEVENT
BEGIN:VEVENT
DTSTART;TZID=UTC:20260517T161500
DTEND;TZID=UTC:20260517T170000
DTSTAMP:20260423T130232
CREATED:20240121T070830Z
LAST-MODIFIED:20260422T184528Z
UID:413-1779034500-1779037200@sarahdoudna.com
SUMMARY:Pointe class (Front Studio)
DESCRIPTION:Pointe class: 4:15pm-5:00pm \nCome try pointe class! Not strong enough yet? That’s okay. Some dancers take the class in ballet slippers until they’re ready. We start with ankle and foot strengthening exercises. Then we warm up at the barre first on two feet\, and then one foot at a time\, and then move into traveling steps\, working on technique and engaging the correct muscles. Everyone is encouraged to move at their own pace. We end stretching our calves and ankles.
URL:https://sarahdoudna.com/event/pointe-class-front-studio-2-3-2-3/
LOCATION:Studio 5th Floor (Buzzer #5)\, 380 Broadway\, New York\, NY\, 10013\, United States
CATEGORIES:Pointe
END:VEVENT
BEGIN:VEVENT
DTSTART;TZID=UTC:20260520T190000
DTEND;TZID=UTC:20260520T203000
DTSTAMP:20260423T130232
CREATED:20240122T070044Z
LAST-MODIFIED:20260422T184621Z
UID:511-1779303600-1779309000@sarahdoudna.com
SUMMARY:Wednesday Open Level Class
DESCRIPTION:Open Level Class: Wednesdays 7:00-8:30pm   This class is that nebulous Open Level\, in between Beginner and Intermediate\, often called “Advanced Beginner”\, though it is not advanced or beginner. Combinations are shorter\, we often workshop turns or specific jumps\, and we have a lot of fun!
URL:https://sarahdoudna.com/event/open-level-class-back-studio-2-2-2-2-3/
LOCATION:Studio 5th Floor (Buzzer #5)\, 380 Broadway\, New York\, NY\, 10013\, United States
CATEGORIES:Beginner Ballet,Intermediate Ballet,Open Level,Open Level Ballet
END:VEVENT
BEGIN:VEVENT
DTSTART;TZID=America/New_York:20260524T133000
DTEND;TZID=America/New_York:20260524T143000
DTSTAMP:20260423T130232
CREATED:20240124T010006Z
LAST-MODIFIED:20260422T184710Z
UID:465-1779629400-1779633000@sarahdoudna.com
SUMMARY:Sunday Beginning Class
DESCRIPTION:  \n\n\n\nBeginning Level class: Sundays 1:30pm-2:30pm  This one hour\, expedited format class is for brand new beginners or those getting back into ballet. We focus on technique and basics\, as we go through a full class starting with the barre\, and moving to the center floor. This class that can be helpful for dancers who are returning from injury. 
URL:https://sarahdoudna.com/event/beginners-class-in-the-front-studio-2-3-2-2-2-3-2-3-2-2/
LOCATION:Studio 5th Floor (Buzzer #5)\, 380 Broadway\, New York\, NY\, 10013\, United States
CATEGORIES:Beginer,Beginner Ballet
END:VEVENT
BEGIN:VEVENT
DTSTART;TZID=America/New_York:20260524T143000
DTEND;TZID=America/New_York:20260524T160000
DTSTAMP:20260423T130232
CREATED:20240124T010006Z
LAST-MODIFIED:20260422T184859Z
UID:515-1779633000-1779638400@sarahdoudna.com
SUMMARY:Sunday Open Level Class
DESCRIPTION:  \n\n\n\nOpen Level class: Sundays 2:30pm-4:00pm \nThis class is that nebulous level between Beginning and Intermediate often called “Advanced Beginning\,” that is neither advanced nor beginning but somewhere in between. You to dance and get better with no pressure in a supportive environment\, and have fun! My aim is for you to leave sweaty\, exuberant\, and excited to return. 
URL:https://sarahdoudna.com/event/beginners-class-in-the-front-studio-2-3-2-2-2-3-2-2-3-2-2-3/
LOCATION:Studio 5th Floor (Buzzer #5)\, 380 Broadway\, New York\, NY\, 10013\, United States
CATEGORIES:Beginner Ballet,Intermediate Ballet,Open Level,Open Level Ballet
END:VEVENT
BEGIN:VEVENT
DTSTART;TZID=UTC:20260524T161500
DTEND;TZID=UTC:20260524T170000
DTSTAMP:20260423T130232
CREATED:20240121T070830Z
LAST-MODIFIED:20260422T185033Z
UID:404-1779639300-1779642000@sarahdoudna.com
SUMMARY:Pointe class
DESCRIPTION:Pointe class: 4:15pm-5:00pm \nCome try pointe class! Not strong enough yet? That’s okay. Some dancers take the class in ballet slippers until they’re ready. We start with ankle and foot strengthening exercises. Then we warm up at the barre first on two feet\, and then one foot at a time\, and then move into traveling steps\, working on technique and engaging the correct muscles. Everyone is encouraged to move at their own pace. We end stretching our calves and ankles.
URL:https://sarahdoudna.com/event/pointe-class-front-studio-2-3-2/
LOCATION:Studio 5th Floor (Buzzer #5)\, 380 Broadway\, New York\, NY\, 10013\, United States
CATEGORIES:Pointe
END:VEVENT
BEGIN:VEVENT
DTSTART;TZID=UTC:20260527T190000
DTEND;TZID=UTC:20260527T203000
DTSTAMP:20260423T130232
CREATED:20240122T070044Z
LAST-MODIFIED:20260422T185132Z
UID:484-1779908400-1779913800@sarahdoudna.com
SUMMARY:Wednesday Open Level Class (Back Studio)
DESCRIPTION:Open Level Class: Wednesdays 7:00-8:30pm   This class is that nebulous Open Level\, in between Beginner and Intermediate\, often called “Advanced Beginner”\, though it is not advanced or beginner. Combinations are shorter\, we often workshop turns or specific jumps\, and we have a lot of fun!
URL:https://sarahdoudna.com/event/open-level-class-back-studio-2-2-2-2-2-3/
LOCATION:Studio 5th Floor (Buzzer #5)\, 380 Broadway\, New York\, NY\, 10013\, United States
CATEGORIES:Open Level Ballet
END:VEVENT
END:VCALENDAR